BEGIN:VCALENDAR
VERSION:2.0
METHOD:PUBLISH
BEGIN:VEVENT
UID:WILD_APRICOT_EVENT_3148801_SESSION_1
DTSTART:20190328T223000Z
DTEND:20190329T050000Z
SUMMARY:The Changing Use of Wetlands
LOCATION:Brisbane Airport
DESCRIPTION:https://rgsq.org.au/event-3148801\n\n   Treks & Activities Event\n    A bus trip to examine the impact of the new airport runway on the natural wetland environment of Nudgee beach and Nundah Creek? \n\n Guided tour of the the new Brisbane Airport Runway by the BAC Community Engagement Officer\, including the new Dryandra Road underpass\, a vital piece of the infrastructure for Brisbane’s new runway system.\n  Lunch (main meal\, coffee/tea and cake) at DFO and chance to shop.\n  Bus pickup and return Eagle Junction: 8:30 AM - 3:00 PM\n  Coordinator: Jeanette Lamont\n  
DTSTAMP:20260424T165136Z
END:VEVENT
END:VCALENDAR
