BEGIN:VCALENDAR
VERSION:2.0
METHOD:PUBLISH
BEGIN:VEVENT
UID:WILD_APRICOT_EVENT_3170875_SESSION_1
DTSTART:20190311T140000Z
DTEND:20190315T140000Z
SUMMARY:Members Only\, Australian Geography Competition Question Pack Mailout
LOCATION:
DESCRIPTION:https://rgsq.org.au/event-3170875\n\n<!-- Sets the event banner the same colour as used in the event calendar. The text in this banner can be edited in the normal editor. If you change the  colour here you will also need to change it in the event calendar -->     Australian Geography Competition Question Pack Mailout\n <!-- End of event banner. html below this is generated by the editor -->When and where:  Location: RGSQ Level 1\, 28 Fortescue Street\, Spring Hill Qld 4000.\n\n  Dates: Tuesday 12 to Friday 15 March 2019\n Time: 9:00am to 4:30pm each day\, or as much time as you are to give\n  Event Description:\n  Members' assistance is requested to help with the mailout of the Australian Geography Competition Information Packs and teacher reminder letters. This mailout requires labels to be stuck on large envelopes and a few items placed in the envelopes.\n  Australian Geography Competition Information Packs are sent to all Australian high schools.\n\n
DTSTAMP:20260424T180136Z
END:VEVENT
END:VCALENDAR
