BEGIN:VCALENDAR
VERSION:2.0
METHOD:PUBLISH
BEGIN:VEVENT
UID:WILD_APRICOT_EVENT_3172286_SESSION_1
DTSTART:20190621T140000Z
DTEND:20190718T140000Z
SUMMARY:Africa - Geography\, Game Parks & Gorillas
LOCATION:Uganda\, Kenya & Tanzania
DESCRIPTION:https://rgsq.org.au/event-3172286\n\n   RGSQ Traveller Discovery Tours\n   \nRegister your interest in the:\n \n Geography\, Game Parks and Gorillas Tour\n through Uganda\, Kenya and Tanzania\n \n Departs Brisbane 22 June 2019 | returns 18 July 2019\n  more details here. . .\n  If you are not ready to make a booking for this trip\, which requires payment of a deposit\, you may register your interest while you consider your options. We will let you know any further developments or changes which may help you in deciding to join this amazing journey.\n  There is no obligation in registering your interest and you can cancel at any time.\n  \n\n
DTSTAMP:20260424T164358Z
END:VEVENT
END:VCALENDAR
