BEGIN:VCALENDAR
VERSION:2.0
METHOD:PUBLISH
BEGIN:VEVENT
UID:WILD_APRICOT_EVENT_3216684_SESSION_1
DTSTART:20190306T000000Z
DTEND:20190306T020000Z
SUMMARY:Visit to Queensland State Archives (QSA) Map Collection
LOCATION:Queensland State Archives\, 435 Compton Rd\, Runcorn QLD 4113
DESCRIPTION:https://rgsq.org.au/event-3216684\n\n   Map Group Event\n   \n\n  Aim of tour/ visit:\n  This is the second visit Map Group will make to the QSA. The visit will concentrate on early historic maps of Queensland - e.g. explorer's maps/charts of Queensland\, early land settlement maps\, early town maps.\n  \n\n  Lunch:\n  Bring your own lunch. Tea and coffee available.\n  \n\n  QSA has imposed a limit of 12 attendees. Map Group will accept 10 registrations and 5 reserve reservations\, just in case the limit is relaxed. As part of this Registration process\, members are asked that those who went to State Archives in 2016\, allow other Map Group members to go in March\, 2019 (i.e. those who have not been to State Archives before).\n  \n\n  Information:\n  Bob Abnett  email: abnett@powerup.com.au  Telephone: (07) 3820-2621 0412-135-794\n  Map - Queensland State Archives\n\n  \n\n  \n
DTSTAMP:20260424T165618Z
END:VEVENT
END:VCALENDAR
