BEGIN:VCALENDAR
VERSION:2.0
METHOD:PUBLISH
BEGIN:VEVENT
UID:WILD_APRICOT_EVENT_3216699_SESSION_1
DTSTART:20190401T000000Z
DTEND:20190401T020000Z
SUMMARY:Peter Griggs (Map Group Speaker): Mapping a New Colony\, the Geographical Construction of Queensland\, 1860-1880
LOCATION:RGSQ\, 28 Fortescue Street Spring Hill Brisbane
DESCRIPTION:https://rgsq.org.au/event-3216699\n\n   Map Group Presentation & Gathering\n   Presenter Background:  \n  Peter Griggs is a geography lecturer and lectured at JCU for many years\, prior to semi-retirement. He is still doing part-time geography lecturing\, whilst being an active member of RGSQ. Peter was a member of RGSQ back in the 1980s and wrote a History of the RGSQ from inception to the mid-1980s and this is still the definitive history of the RGSQ to this day.\n  \n\n  Topic Overview:\n  The Presentation will include issues such as:\n  ⦁ What was mapped (e.g. electoral districts\, towns\, railway routes)\n  ⦁ Who was mapping (not only government)\n  ⦁ The commencement of cadastral mapping\n  ⦁ The challenges faced making maps in an era when lithography still used\n  limestone stones.\n  \n\n  Information:\n  Ian Francis   Email brisfran@gmail.com   Mob. 0457 628 033\n  Location Map\n\n  \n\n  \n\n  \n\n  \n\n  \n\n  
DTSTAMP:20260424T165452Z
END:VEVENT
END:VCALENDAR
