BEGIN:VCALENDAR
VERSION:2.0
METHOD:PUBLISH
BEGIN:VEVENT
UID:WILD_APRICOT_EVENT_3216728_SESSION_1
DTSTART:20190506T224000Z
DTEND:20190507T053000Z
SUMMARY:Visit to North Stradbroke Island Historical Museum & lunch at the Island Fruit Barn
LOCATION:Stradbroke Flyer Gold Cat ferry\, Corner of Middle Street and Emmett Drive\, Cleveland  & 15/17 Welsby St\, Dunwich QLD 4183
DESCRIPTION:https://rgsq.org.au/event-3216728\n\n   Map Group Event\n   \n  Aim of tour/ visit:\n  The museum has a range of permanent displays about the Quandamooka people\, convict history\, shipwrecks and maritime history\, the story of sandmining on the Island\, as well as lots of photos of the old fishing shacks\, boats and buses that helped kick off the tourism industry on Straddie. As well as this they will provide us access to their small but interesting map collection. The visit includes morning tea.\n  \n\n  Transport Note/Meeting Point: Members to meet at the Stradbroke Flyer Gold Cat ferry\, Corner of Middle Street and Emmett Drive\, Cleveland\, QLD 4163 at 8.40am. Ferry departs at 8:55am. Visitors to purchase own ferry tickets.  See Map below.\n  Lunch:\n  Lunch will be at the Island Fruit Barn\, a short walk from the museum.\n  \n\n  \n\n  Return to the Mainland:\n  Return water taxi to Cleveland. Members may choose to stay longer on Stradbroke Island and catch a later water taxi back to Cleveland. Water Taxis depart at 1:25pm\, 2:25pm\, 3:55pm\, 4:55pm.\n  \n\n  Information:\n  Ian Francis   Email brisfran@gmail.com  mob. 0457 628 033\n  \n\n  Cleveland Ferry Details.\n  \n\n  \n\n  \n\n  Dunwich Details\n  \n\n  \n\n  Map - North Stradbroke Island Historical Museum\n\n  \n\n  \n\n  \n\n  \n\n  \n\n  \n\n  
DTSTAMP:20260424T171655Z
END:VEVENT
END:VCALENDAR
