BEGIN:VCALENDAR
VERSION:2.0
METHOD:PUBLISH
BEGIN:VEVENT
UID:WILD_APRICOT_EVENT_3216743_SESSION_1
DTSTART:20190603T000000Z
DTEND:20190603T020000Z
SUMMARY:Keith Treschman (Map Group Member) Topic: Areography (The scientific study of the planet Mars' geographical features)
LOCATION:Gregory Place\, 1/28 Fortescue St\, Spring Hill Qld 4000
DESCRIPTION:https://rgsq.org.au/event-3216743\n\n   Map Group Presentation & Gathering\n   \n\n  Presenter Background:\n  Keith Treschman is a Science Teacher and has taught Science in secondary schools for over 40 years. He has a passion for Astronomy and has written curriculum materials on this topic for teachers. His PhD is on “Astronomical Tests of General Relativity”. He is responsible for the installation of an observatory at Brisbane Girls Grammar School - this is at its outdoor centre near Gympie. In this facility are 4 telescopes\, 3 of which are operated by the students robotically from their computers.\n  \n\n  Topic Overview:\n  Earth has latitude defined from the equator\, longitude based on Greenwich and height referred to sea level. How is this done on Mars? What are the features on this planet?\n  \n\n  Information:\n  Ian Francis   Email brisfran@gmail.com   Mob 0457 628 033\n  Location Map\n\n  \n\n  \n\n  \n\n  \n\n  \n\n  \n
DTSTAMP:20260424T183210Z
END:VEVENT
END:VCALENDAR
