BEGIN:VCALENDAR
VERSION:2.0
METHOD:PUBLISH
BEGIN:VEVENT
UID:WILD_APRICOT_EVENT_3216759_SESSION_1
DTSTART:20190717T000000Z
DTEND:20190717T020000Z
SUMMARY:Map Group visits RGSQ libraries
LOCATION:Gregory Place\, 1/28 Fortescue St\, Spring Hill Qld 4000
DESCRIPTION:https://rgsq.org.au/event-3216759\n\n   Map Group Event\n   \n\n  Aim of tour/ visit:\n  Map Group visits own library at RGSQ headquarters - exploration and explanations by Map Group Members Peter Nunan\, Peter Lloyd and Jim Graham. The presenters will delve into the unusual\, rare and bazaar maps\, books and artifacts in our collection.\n  \n\n  Information:\n\n  Ian Francis   Email brisfran@gmail.com   Mob 0457 628 033\n  Location Map\n\n  \n\n  \n\n  \n\n  \n\n  \n\n  
DTSTAMP:20260424T164318Z
END:VEVENT
END:VCALENDAR
