BEGIN:VCALENDAR
VERSION:2.0
METHOD:PUBLISH
BEGIN:VEVENT
UID:WILD_APRICOT_EVENT_3216777_SESSION_1
DTSTART:20191106T000000Z
DTEND:20191106T033000Z
SUMMARY:Dr Ray Kerkhove conducting a tour of Aboriginal Camp Sites of Kedron Brook\, Nundah - followed by lunch
LOCATION:Kalinga Park\, at the car-park by Diggers Drive\, off Park Avenue Kalinga - near the main (Anzac) gates
DESCRIPTION:https://rgsq.org.au/event-3216777\n\n   Map Group Event\n   \n\n  Aim of Visit/Tour:\n  To understand how and where aboriginal habitation occurred in a part of the\n  Brisbane Region prior to European Settlement. Ray Kerkhove\, a well known\n  researcher of Aboriginal Camp Sites and Pathways within the Brisbane Region prior to and after European settlement will undertake the Tour of Kedron Brook\, Nundah.\n  \n\n  Tour Requirements:\n  A bit of walking - along the pathways to Shaw Park - so good shoes\, hat\, water etc.\n  \n\n  Extra Tour Element:\n  Ray can offer an additional Tour to German Station Park and the Nundah (German) Cemetery located there - to explain the attack that took place here and the camp on this site (the Cemetery is itself worth seeing being a remnant of the original German Station). This Offer is reliant upon numbers willing to register for it. It may extend the overall Tour by a little.\n  \n\n  Lunch:\n  Italian bistro Royal Hotel\, 1259 Sandgate Road Nundah\n  \n\n  Information:\n  Ian Francis\, email brisfran@gmail.com   mob. 0457 628 033\n  \n\n  Google Map of Meeting point\n\n  \n\n  \n\n  \n\n  \n\n  \n
DTSTAMP:20260424T165717Z
END:VEVENT
END:VCALENDAR
