BEGIN:VCALENDAR
VERSION:2.0
METHOD:PUBLISH
BEGIN:VEVENT
UID:WILD_APRICOT_EVENT_3216967_SESSION_1
DTSTART:20190805T000000Z
DTEND:20190805T020000Z
SUMMARY:Neil Simson (Guest Speaker) Topic: Mapping and Town Planning
LOCATION:Gregory Place\, 1/28 Fortescue St\, Spring Hill Qld 4000
DESCRIPTION:https://rgsq.org.au/event-3216967\n\n   Map Group Presentation & Gathering\n   \n\n  Presenter Background:\n  Neil Simson is a Town Planner. He started his career as a consulting Town Planner to the mid-1990s\, before working as the Town Planner for Beaudesert Shire until the late 2000s\, then moving onto a far larger local government area (population and urbanisation wise)\, in Logan City and worked there until 2017. Neil was the chief drafter of Beaudesert Shire’s planning scheme (2007) and he was heavily involved in the drafting of Logan City’s planning scheme (2015).\n  \n\n  Topic Overview:\n  ⦁ History of Town Planning in Logan City\n  ⦁ Issues in Modern Mapping for Town Planners\n  ⦁ What Mapping Tools are Displayed to the Public\n  \n\n  Information:\nIan Francis\, email brisfran@gmail.com   mob. 0457 628 033  Location Map\n\n  \n\n  \n\n  \n\n  \n\n  \n\n  
DTSTAMP:20260424T164338Z
END:VEVENT
END:VCALENDAR
