BEGIN:VCALENDAR
VERSION:2.0
METHOD:PUBLISH
BEGIN:VEVENT
UID:WILD_APRICOT_EVENT_3257055_SESSION_1
DTSTART:20190305T093000Z
DTEND:20190305T110000Z
SUMMARY:1919\, Spanish Flu in Queensland
LOCATION:"The Hall" Lavalla Centre
DESCRIPTION:https://rgsq.org.au/event-3257055\n\n   RGSQ Lecture Series\n   By Matthew Wengert\n  History knows it as the ‘Spanish Flu’––the world’s deadliest pandemic of infectious disease\, killing more people in a year than the two world wars combined.\n  Australian governments called it Pneumonic Influenza (PnuFlu).\n \n It was our nation’s worst natural disaster\, leaving more than 12000 dead in a few months––but the epidemic also caused massive social and economic chaos as it travelled through the country\, from cities to towns\, along highways and down every street\, and into nearly every house.\n \n Never before or since has any emergency brought such intense and pervasive government control of most aspects of daily life. PnuFlu regulations governed many basic interactions and movements––closing down mass entertainments\, suspending public transport\, and even forcing churches to shut their doors to prevent people infecting each other.\n  Matthew's talk will discuss the movement of the epidemic as it spread north and west of Brisbane\, and use several examples of the impact of the disease on population centres throughout the State (including the islands of the Torres Straits\, among the last places on Earth to suffer that 'Flu' pandemic).\n  Matthew Wengert is an independent curator and professional historian who has lived in Brisbane since the 1980s. Following his BA (Hons) in Media Studies at Griffith University he worked there as a researcher and tutor for close to ten years\, while also researching for ABC and SBS documentaries. He attained an MA (Writing\, Editing and Publishing) from University of Queensland in 2014. His main research interests are the violent history of Queensland's colonial frontier and the medical history of epidemics. He has worked closely with Cherbourg's Ration Shed Museum for several years as a curator and manager of Indigenous art projects (and he is a passionate collector of Queensland Indigenous art). Matthew was the 2018 recipient of the Brisbane Lord Mayor’s Helen Taylor Research Award and author of the recently published book\, ‘City in Masks.’\n  'City in Masks' documents Brisbane's dramatic exposure to the world's deadliest pandemic - the 'Spanish Flu' - in 1919. This influenza epidemic was Australia's worst natural disaster\, and led to severe and widespread disruption to everyday life for the entire population. 'City in Masks' tracks the emergency as the disease moved across the city\, carrying illness and death into every suburb - and bringing out surprising stories of heroism and humanity wherever it went.\n
DTSTAMP:20260424T165608Z
END:VEVENT
END:VCALENDAR
