BEGIN:VCALENDAR
VERSION:2.0
METHOD:PUBLISH
BEGIN:VEVENT
UID:WILD_APRICOT_EVENT_3257256_SESSION_1
DTSTART:20190402T093000Z
DTEND:20190402T110000Z
SUMMARY:St Laurence’s College Urban Farm
LOCATION:"The Hall" Lavalla Centre\, 58 Fernberg Rd\, Paddington
DESCRIPTION:https://rgsq.org.au/event-3257256\n\n   RGSQ Lecture Series\n   Nataleen Kilburn\, St Laurence's College Urban Farm coordinator will introduce the College's Urban Farm.\n  Further details will be upload soon\, SO WATCH THIS SPACE!\n  If you cannot wait\, the following is a story about the College's Urban Farm:\n  http://www.westendmagazine.com/urban-farm/\n\n
DTSTAMP:20260424T182157Z
END:VEVENT
END:VCALENDAR
